BEGIN:VCALENDAR
VERSION:2.0
PRODID:-//MG Car Club South West Centre - ECPv6.15.20//NONSGML v1.0//EN
CALSCALE:GREGORIAN
METHOD:PUBLISH
X-WR-CALNAME:MG Car Club South West Centre
X-ORIGINAL-URL:https://www.mgccsw.com
X-WR-CALDESC:Events for MG Car Club South West Centre
REFRESH-INTERVAL;VALUE=DURATION:PT1H
X-Robots-Tag:noindex
X-PUBLISHED-TTL:PT1H
BEGIN:VTIMEZONE
TZID:Europe/London
BEGIN:DAYLIGHT
TZOFFSETFROM:+0000
TZOFFSETTO:+0100
TZNAME:BST
DTSTART:20240331T010000
END:DAYLIGHT
BEGIN:STANDARD
TZOFFSETFROM:+0100
TZOFFSETTO:+0000
TZNAME:GMT
DTSTART:20241027T010000
END:STANDARD
BEGIN:DAYLIGHT
TZOFFSETFROM:+0000
TZOFFSETTO:+0100
TZNAME:BST
DTSTART:20250330T010000
END:DAYLIGHT
BEGIN:STANDARD
TZOFFSETFROM:+0100
TZOFFSETTO:+0000
TZNAME:GMT
DTSTART:20251026T010000
END:STANDARD
BEGIN:DAYLIGHT
TZOFFSETFROM:+0000
TZOFFSETTO:+0100
TZNAME:BST
DTSTART:20260329T010000
END:DAYLIGHT
BEGIN:STANDARD
TZOFFSETFROM:+0100
TZOFFSETTO:+0000
TZNAME:GMT
DTSTART:20261025T010000
END:STANDARD
END:VTIMEZONE
BEGIN:VEVENT
DTSTART;TZID=Europe/London:20250420T110000
DTEND;TZID=Europe/London:20250420T170000
DTSTAMP:20260424T155144
CREATED:20250318T000000Z
LAST-MODIFIED:20250318T000000Z
UID:10774-1745146800-1745168400@www.mgccsw.com
SUMMARY:Marque In The Park - Sunday 20 April 2025
DESCRIPTION:Would you like to display your MG at the Marque In The Park at Alice Park\, BATH on Sunday 20th April (Easter Sunday)? I have had an enquiry from Rob Ford of the Lotus Club (I worked with Rob and Joe Cox of the Healey Club\, on the combined MG/Healey display at the Autumn Classic at Castle Combe last year. \nThey already have over 40 cars coming along ranging from Aston Martin to Ferrari and LOTUS etc. The maximum number of cars on display will be 100\, so if you feel you would like to take part\, there is the charity fund raiser link for car exhibitors to sign up: The Eventbrite posting is in this link and car holders can now purchase a ticket for the event – https://MITP2025.eventbrite.co.uk \nCars already signed up to display include\, Jim Clark’s personal unique LOTUS Cortina Reg Number 550 VAR\, various Lotus types\, Jaguar C Type\, Jaguar E Type and a Ford GT 40\, plus Ferrari and Porsche cars.
URL:https://www.mgccsw.com/event/marque-in-the-park-sunday-20-april-2025/
LOCATION:Alice Park Cafe\, Alice Park Cafe\, Bath\, BANES\, BA1 7BL\, United Kingdom
CATEGORIES:Non MGCC Event,Social Event
ORGANIZER;CN="Jim Lott":MAILTO:jim.lott@hotmail.co.uk
END:VEVENT
END:VCALENDAR