BEGIN:VCALENDAR
VERSION:2.0
PRODID:-//MG Car Club South West Centre - ECPv6.15.20//NONSGML v1.0//EN
CALSCALE:GREGORIAN
METHOD:PUBLISH
X-WR-CALNAME:MG Car Club South West Centre
X-ORIGINAL-URL:https://www.mgccsw.com
X-WR-CALDESC:Events for MG Car Club South West Centre
REFRESH-INTERVAL;VALUE=DURATION:PT1H
X-Robots-Tag:noindex
X-PUBLISHED-TTL:PT1H
BEGIN:VTIMEZONE
TZID:Europe/London
BEGIN:DAYLIGHT
TZOFFSETFROM:+0000
TZOFFSETTO:+0100
TZNAME:BST
DTSTART:20240331T010000
END:DAYLIGHT
BEGIN:STANDARD
TZOFFSETFROM:+0100
TZOFFSETTO:+0000
TZNAME:GMT
DTSTART:20241027T010000
END:STANDARD
BEGIN:DAYLIGHT
TZOFFSETFROM:+0000
TZOFFSETTO:+0100
TZNAME:BST
DTSTART:20250330T010000
END:DAYLIGHT
BEGIN:STANDARD
TZOFFSETFROM:+0100
TZOFFSETTO:+0000
TZNAME:GMT
DTSTART:20251026T010000
END:STANDARD
BEGIN:DAYLIGHT
TZOFFSETFROM:+0000
TZOFFSETTO:+0100
TZNAME:BST
DTSTART:20260329T010000
END:DAYLIGHT
BEGIN:STANDARD
TZOFFSETFROM:+0100
TZOFFSETTO:+0000
TZNAME:GMT
DTSTART:20261025T010000
END:STANDARD
END:VTIMEZONE
BEGIN:VEVENT
DTSTART;TZID=Europe/London:20250607T080000
DTEND;TZID=Europe/London:20250608T170000
DTSTAMP:20260424T120248
CREATED:20250528T203829Z
LAST-MODIFIED:20250528T203829Z
UID:11051-1749283200-1749402000@www.mgccsw.com
SUMMARY:Motorsport UK StreetCar Campaign - Prescott Motorsport Festival 7th & 8th June 2025
DESCRIPTION:Motorsport UK’s StreetCar campaign encourages everyone to experience motorsport\, in their everyday road car! \nThis summer\, we’re hitting the road and joining four much-loved motorsport events across the UK\, to co-host a StreetCar Festival as part of the weekend’s motorsport celebration. \nWe’re kicking off the first StreetCar Festival at the Prescott Motorsport Festival on 7th and 8th of June\, bringing together drivers and car clubs from across the UK at the historic venue. Alongside watching the action unfold on the famous Hill Climb\, there are opportunities aplenty for your club members to get behind the wheel themselves during the weekend – as part of an AutoSOLO\, Trial or Touring Assembly. \nWe would love for you to share this information with your club so they can come down and join in the fun. \nAll StreetCar Festival events include entry to the overall Prescott Motorsport Festival event: \n\nThe AutoSOLO\, organised by Sixty & Worcester Motor provides an ideal starting point\, seeing you take to a course navigating cones\, slalom sections and longer turns. Entries cost £45 and include two general admission tickets to Prescott worth £36 –  book here.\nStroud and District Motor Club are organising a trialling taster event for StreetCar Festival. Get behind the wheel of your own road car and see if you can complete the course\, or sit in with an experienced competitor as they take on a challenging woodland course. With each entry\, you will receive two weekend tickets to Prescott Motorsport Festival worth £36 – book here\nOrganised by Venture Bound Motoring Club\, the Streetcar Festival special takes in 30 miles of scenic Cotswold roads before arriving at Prescott Hill Climb around 10:30am to enjoy the Festival. Tickets cost £20 – book on here\n\nAlongside\, there’s a treasure hunt for the whole family to enjoy\,  live music\, a BBQ in the historic Prescott clubhouse and a full weekend of live Hill Climb action – what are you waiting for? Get your summer started with StreetCar! \nEntries are now open – grab your spot here – or contact a member of the StreetCar team to find out more about getting your club involved: streetcar@motorsport.uk.org
URL:https://www.mgccsw.com/event/motorsport-uk-streetcar-campaign-prescott-motorsport-festival-7th-8th-june-2025/
LOCATION:Prescott Speed Hillclimb\, PRESCOTT HILL\, GOTHERINGTON\,\, CHELTENHAM\,\, GLOS.\, GL52 9RD\, United Kingdom
CATEGORIES:Autosolo,Hillclimb,Non MGCC Event,Touring Run,Trial
ATTACH;FMTTYPE=image/png:https://www.mgccsw.com/wp-content/uploads/2025/05/MS_UK_StreetCar.png
ORGANIZER;CN="MSUK StreetCar Team":MAILTO:StreetCar@motorsportuk.org
END:VEVENT
BEGIN:VEVENT
DTSTART;TZID=Europe/London:20250622T080000
DTEND;TZID=Europe/London:20250622T170000
DTSTAMP:20260424T120248
CREATED:20250529T224437Z
LAST-MODIFIED:20250529T224644Z
UID:11061-1750579200-1750611600@www.mgccsw.com
SUMMARY:Minehead Motor Club - Ellicombe Autotest
DESCRIPTION:The MG CC SW Centre have had an invitation to join with the Minehead Motor Club for an Autotest on Grass at Ellicombe\, near WSM. \nThe regulations and entry form are available by clicking this link – Ellicombe Autotest Regulations.
URL:https://www.mgccsw.com/event/minehead-motor-club-ellicombe-autotest/
LOCATION:Ellicombe\, Minehead\, West Somerset\, TA24 6TP\, United Kingdom
CATEGORIES:Autotest,Non MGCC Event
ATTACH;FMTTYPE=image/jpeg:https://www.mgccsw.com/wp-content/uploads/2023/07/P1410771_RW2_TPZ.jpg
ORGANIZER;CN="Les Woodward":MAILTO:woodward35@mail.com
END:VEVENT
BEGIN:VEVENT
DTSTART;TZID=Europe/London:20250629T073000
DTEND;TZID=Europe/London:20250629T173000
DTSTAMP:20260424T120248
CREATED:20250309T173956Z
LAST-MODIFIED:20250611T205616Z
UID:10728-1751182200-1751218200@www.mgccsw.com
SUMMARY:Invitation to join the Chipping Sodbury Classic Car Run Sunday 29th June 2025
DESCRIPTION:We have had an invitation to join the Chipping Sodbury Classic Car Run being held on Sunday 29th June 2025.  The start and finish of the run is in Broad Street Chipping Sodbury.  I have completed this run several times and there are usually a large number of varied classic cars and motor cycles taking part.  Vehicles will follow a route of about 80 miles through the countryside of Gloucestershire and South Gloucestershire with a coffee stop at about 40 miles – entry details are available on the Rotary Club website Chipping Sodbury Classic Car Run.  Entries for the printed program will close soon\, but late entries will be accepted\,\, so get your entry in as soon as possible. \nJim Lott \nChairman MGCC SW Centre
URL:https://www.mgccsw.com/event/invitation-to-join-the-chipping-sodbury-classic-car-run-sunday-29th-june-2025/
LOCATION:Chipping Sodbury\, Broad Street\, Chipping Sodbury\, South Glos\, BS37 6AG\, United Kingdom
CATEGORIES:Non MGCC Event,Social Event,Touring Run
ORGANIZER;CN="Jim Lott":MAILTO:jim.lott@hotmail.co.uk
END:VEVENT
END:VCALENDAR