BEGIN:VCALENDAR
VERSION:2.0
PRODID:-//MG Car Club South West Centre - ECPv6.15.20//NONSGML v1.0//EN
CALSCALE:GREGORIAN
METHOD:PUBLISH
X-WR-CALNAME:MG Car Club South West Centre
X-ORIGINAL-URL:https://www.mgccsw.com
X-WR-CALDESC:Events for MG Car Club South West Centre
REFRESH-INTERVAL;VALUE=DURATION:PT1H
X-Robots-Tag:noindex
X-PUBLISHED-TTL:PT1H
BEGIN:VTIMEZONE
TZID:Europe/London
BEGIN:DAYLIGHT
TZOFFSETFROM:+0000
TZOFFSETTO:+0100
TZNAME:BST
DTSTART:20240331T010000
END:DAYLIGHT
BEGIN:STANDARD
TZOFFSETFROM:+0100
TZOFFSETTO:+0000
TZNAME:GMT
DTSTART:20241027T010000
END:STANDARD
BEGIN:DAYLIGHT
TZOFFSETFROM:+0000
TZOFFSETTO:+0100
TZNAME:BST
DTSTART:20250330T010000
END:DAYLIGHT
BEGIN:STANDARD
TZOFFSETFROM:+0100
TZOFFSETTO:+0000
TZNAME:GMT
DTSTART:20251026T010000
END:STANDARD
BEGIN:DAYLIGHT
TZOFFSETFROM:+0000
TZOFFSETTO:+0100
TZNAME:BST
DTSTART:20260329T010000
END:DAYLIGHT
BEGIN:STANDARD
TZOFFSETFROM:+0100
TZOFFSETTO:+0000
TZNAME:GMT
DTSTART:20261025T010000
END:STANDARD
END:VTIMEZONE
BEGIN:VEVENT
DTSTART;TZID=Europe/London:20250921T090000
DTEND;TZID=Europe/London:20250921T170000
DTSTAMP:20260420T182658
CREATED:20250828T190535Z
LAST-MODIFIED:20250828T190613Z
UID:11376-1758445200-1758474000@www.mgccsw.com
SUMMARY:An Invitation to Minehead Motor Club\, Ellicombe Autotest\, Sunday 21st September 2025
DESCRIPTION:I have just received an invitation from Les Woodward of Minehead Motor Club\, to join them at Ellicombe Minehead on Sunday 21st September 2025.  The regulations can be found by clicking MMC Ellicombe Autotest Regs \nJim Lott\nChairman MGCCSW Centre
URL:https://www.mgccsw.com/event/an-invitation-to-minehead-motor-club-ellicombe-autotest-sunday-21st-september-2025/
LOCATION:Ellicombe\, Minehead\, West Somerset\, TA24 6TP\, United Kingdom
CATEGORIES:Autotest,Non MGCC Event
ORGANIZER;CN="Les Woodward":MAILTO:woodward35@mail.com
END:VEVENT
END:VCALENDAR